Workbook

Sheet example 1
C1: SCHEDULE TEMPLATE
C2: ="WEEK # "&(ISOWEEKNUM(E3)) -> #NAME? | E2: =TEXT(E3,"dddd") -> Sunday | G2: =TEXT(G3,"dddd") -> Monday | I2: =TEXT(I3,"dddd") -> Tuesday | K2: =TEXT(K3,"dddd") -> Wednesday | M2: =TEXT(M3,"dddd") -> Thursday | O2: =TEXT(O3,"dddd") -> Friday | Q2: =TEXT(Q3,"dddd") -> Saturday
E3: 45067 | G3: =E3+1 -> 45068 | I3: =G3+1 -> 45069 | K3: =I3+1 -> 45070 | M3: =K3+1 -> 45071 | O3: =M3+1 -> 45072 | Q3: =O3+1 -> 45073
I4: Happy hour cocktails 🍸
B5: ADMINISTRATIVE STAFF
C6: #101 | D6: Cody Gibson | E6: Unavailable | G6: Manager | H6: 0.33333333 | I6: Manager | J6: 0.33333333 | K6: Manager | L6: 0.33333333 | M6: Manager | N6: 0.33333333 | O6: Manager | P6: 0.33333333 | Q6: Unavailable
D7: =SUM(F7-F6,H7-H6,J7-J6,L7-L6,N7-N6,P7-P6,R7-R6) -> 1.875 | H7: 0.70833333 | J7: 0.70833333 | L7: 0.70833333 | N7: 0.70833333 | P7: 0.70833333
C8: #102 | D8: Celia Houston | E8: Buyer | F8: 0.41666667 | G8: Buyer | H8: 0.41666667 | I8: Unavailable | K8: Buyer | L8: 0.41666667 | M8: Vacation | O8: Buyer | P8: 0.41666667 | Q8: Buyer | R8: 0.41666667
D9: =SUM(F9-F8,H9-H8,J9-J8,L9-L8,N9-N8,P9-P8,R9-R8) -> 0.625 | F9: 0.54166667 | H9: 0.54166667 | L9: 0.54166667 | P9: 0.54166667 | R9: 0.54166667
C10: #103 | D10: Francis Gilbert | E10: Accountant | F10: 0.41666667 | G10: Off | I10: Accountant | J10: 0.41666667 | K10: Accountant | L10: 0.41666667 | M10: Accountant | N10: 0.41666667 | O10: PTO | Q10: Accountant | R10: 0.41666667
D11: =SUM(F11-F10,H11-H10,J11-J10,L11-L10,N11-N10,P11-P10,R11-R10) -> 0.625 | F11: 0.54166667 | J11: 0.54166667 | L11: 0.54166667 | N11: 0.54166667 | R11: 0.54166667
C12: #104 | D12: Kirk Fox | E12: Unavailable | G12: Shift Manager | H12: 0.33333333 | I12: Shift Manager | J12: 0.33333333 | K12: Unavailable | M12: Shift Manager | N12: 0.33333333 | O12: Shift Manager | P12: 0.33333333 | Q12: Unavailable
D13: =SUM(F13-F12,H13-H12,J13-J12,L13-L12,N13-N12,P13-P12,R13-R12) -> 2.3333333 | H13: 0.91666667 | J13: 0.91666667 | N13: 0.91666667 | P13: 0.91666667
B14: KITCHEN STAFF
C15: #105 | D15: Alice Douglas | E15: Chef | F15: 0.33333333 | G15: Chef | H15: 0.5 | I15: Chef | J15: 0.33333333 | K15: Chef | L15: 0.54166667 | M15: Chef | N15: 0.41666667 | O15: Unavailable | Q15: Unavailable
D16: =SUM(F16-F15,H16-H15,J16-J15,L16-L15,N16-N15,P16-P15,R16-R15) -> 1.5416667 | F16: 0.54166667 | H16: 0.91666667 | J16: 0.625 | L16: 0.75 | N16: 0.83333333
C17: #106 | D17: Russell Graves | E17: Sous-chef | F17: 0.29166667 | G17: Sous-chef | H17: 0.41666667 | I17: Unavailable | K17: Unavailable | M17: Sous-chef | N17: 0.5 | O17: Sous-chef | P17: 0.5 | Q17: Sous-chef | R17: 0.58333333
D18: =SUM(F18-F17,H18-H17,J18-J17,L18-L17,N18-N17,P18-P17,R18-R17) -> 1.5833333 | F18: 0.75 | H18: 0.54166667 | N18: 0.83333333 | P18: 0.83333333 | R18: 0.91666667
C19: #107 | D19: Michelle Bates | E19: Cook | F19: 0.41666667 | G19: Cook | H19: 0.5 | I19: Cook | J19: 0.41666667 | K19: Cook | L19: 0.41666667 | M19: Unavailable | O19: Unavailable | Q19: Cook | R19: 0.41666667
D20: =SUM(F20-F19,H20-H19,J20-J19,L20-L19,N20-N19,P20-P19,R20-R19) -> 1.7916667 | F20: 0.54166667 | H20: 0.91666667 | J20: 0.83333333 | L20: 0.83333333 | R20: 0.83333333
C21: #108 | D21: Gregory Harvey | E21: Unavailable | G21: Unavailable | I21: Assistant | J21: 0.29166667 | K21: Assistant | L21: 0.41666667 | M21: Assistant | N21: 0.5 | O21: Assistant | P21: 0.5 | Q21: Assistant | R21: 0.41666667
D22: =SUM(F22-F21,H22-H21,J22-J21,L22-L21,N22-N21,P22-P21,R22-R21) -> 1.6666667 | J22: 0.75 | L22: 0.54166667 | N22: 0.83333333 | P22: 0.83333333 | R22: 0.83333333
C23: #109 | D23: Denise Lawson | E23: Cleaner | F23: 0.45833333 | G23: Unavailable | I23: Unavailable | K23: Cleaner | L23: 0.45833333 | M23: Cleaner | N23: 0.45833333 | O23: Cleaner | P23: 0.45833333 | Q23: Cleaner | R23: 0.45833333
D24: =SUM(F24-F23,H24-H23,J24-J23,L24-L23,N24-N23,P24-P23,R24-R23) -> 1.875 | F24: 0.83333333 | L24: 0.83333333 | N24: 0.83333333 | P24: 0.83333333 | R24: 0.83333333
B25: SERVICE STAFF
C26: #110 | D26: Connie Howard | E26: Unavailable | G26: Unavailable | I26: Administrator | J26: 0.29166667 | K26: Administrator | L26: 0.41666667 | M26: Administrator | N26: 0.5 | O26: Administrator | P26: 0.5 | Q26: Administrator | R26: 0.58333333
D27: =SUM(F27-F26,H27-H26,J27-J26,L27-L26,N27-N26,P27-P26,R27-R26) -> 1.5833333 | J27: 0.75 | L27: 0.54166667 | N27: 0.83333333 | P27: 0.83333333 | R27: 0.91666667
C28: #111 | D28: Russell Campbell | E28: Waiter | F28: 0.33333333 | G28: Waiter | H28: 0.54166667 | I28: Unavailable | K28: Unavailable | M28: Waiter | N28: 0.54166667 | O28: Waiter | P28: 0.54166667 | Q28: Waiter | R28: 0.54166667
D29: =SUM(F29-F28,H29-H28,J29-J28,L29-L28,N29-N28,P29-P28,R29-R28) -> 1.2083333 | F29: 0.54166667 | H29: 0.91666667 | N29: 0.75 | P29: 0.75 | R29: 0.75
C30: #112 | D30: Colleen Brewer | E30: Bar staff | F30: 0.70833333 | G30: Unavailable | I30: Bar staff | J30: 0.70833333 | K30: Bar staff | L30: 0.70833333 | M30: Unavailable | O30: Bar staff | P30: 0.70833333 | Q30: Bar staff | R30: 0.70833333
D31: =SUM(F31-F30,H31-H30,J31-J30,L31-L30,N31-N30,P31-P30,R31-R30) -> 1.0416667 | F31: 0.91666667 | J31: 0.91666667 | L31: 0.91666667 | P31: 0.91666667 | R31: 0.91666667
C32: #113 | D32: Nellie Douglas | E32: Unavailable | G32: Baristo | H32: 0.33333333 | I32: Baristo | J32: 0.33333333 | K32: Unavailable | M32: Unavailable | O32: Baristo | P32: 0.33333333 | Q32: Baristo | R32: 0.33333333
D33: =SUM(F33-F32,H33-H32,J33-J32,L33-L32,N33-N32,P33-P32,R33-R32) -> 0.83333333 | H33: 0.54166667 | J33: 0.54166667 | P33: 0.54166667 | R33: 0.54166667
C34: #114 | D34: Marcus Ross | E34: Hostess | F34: 0.5 | G34: Hostess | H34: 0.5 | I34: Hostess | J34: 0.5 | K34: Hostess | L34: 0.5 | M34: Unavailable | O34: Unavailable | Q34: Hostess | R34: 0.5
D35: =SUM(F35-F34,H35-H34,J35-J34,L35-L34,N35-N34,P35-P34,R35-R34) -> 1.6666667 | F35: 0.83333333 | H35: 0.83333333 | J35: 0.83333333 | L35: 0.83333333 | R35: 0.83333333
C38: PROJECTED SALES | F38: 9200 | H38: 8600 | J38: 10500 | L38: 11800 | N38: 15900 | P38: 16300 | R38: 12500
C39: LABOR COST | F39: =(F7-F6+F9-F8+F11-F10+F13-F12+F16-F15+F18-F17+F20-F19+F22-F21+F24-F23+F27-F26+F29-F28+F31-F30+F33-F32+F35-F34)*24*12 -> 624 | H39: =(H7-H6+H9-H8+H11-H10+H13-H12+H16-H15+H18-H17+H20-H19+H22-H21+H24-H23+H27-H26+H29-H28+H31-H30+H33-H32+H35-H34)*24*12 -> 852 | J39: =(J7-J6+J9-J8+J11-J10+J13-J12+J16-J15+J18-J17+J20-J19+J22-J21+J24-J23+J27-J26+J29-J28+J31-J30+J33-J32+J35-J34)*24*12 -> 996 | L39: =(L7-L6+L9-L8+L11-L10+L13-L12+L16-L15+L18-L17+L20-L19+L22-L21+L24-L23+L27-L26+L29-L28+L31-L30+L33-L32+L35-L34)*24*12 -> 696 | N39: =(N7-N6+N9-N8+N11-N10+N13-N12+N16-N15+N18-N17+N20-N19+N22-N21+N24-N23+N27-N26+N29-N28+N31-N30+N33-N32+N35-N34)*24*12 -> 888 | P39: =(P7-P6+P9-P8+P11-P10+P13-P12+P16-P15+P18-P17+P20-P19+P22-P21+P24-P23+P27-P26+P29-P28+P31-P30+P33-P32+P35-P34)*24*12 -> 888 | R39: =(R7-R6+R9-R8+R11-R10+R13-R12+R16-R15+R18-R17+R20-R19+R22-R21+R24-R23+R27-R26+R29-R28+R31-R30+R33-R32+R35-R34)*24*12 -> 888
C40: LABOR % | F40: =F39/F38 -> 0.067826087 | H40: =H39/H38 -> 0.099069767 | J40: =J39/J38 -> 0.094857143 | L40: =L39/L38 -> 0.058983051 | N40: =N39/N38 -> 0.055849057 | P40: =P39/P38 -> 0.054478528 | R40: =R39/R38 -> 0.07104

Sheet example 2
C1: HEALTHCARE SCHEDULE TEMPLATE
C2: ="WEEK # "&(ISOWEEKNUM(E3)) -> #NAME? | E2: =TEXT(E3,"dddd") -> Sunday | G2: =TEXT(G3,"dddd") -> Monday | I2: =TEXT(I3,"dddd") -> Tuesday | K2: =TEXT(K3,"dddd") -> Wednesday | M2: =TEXT(M3,"dddd") -> Thursday | O2: =TEXT(O3,"dddd") -> Friday | Q2: =TEXT(Q3,"dddd") -> Saturday
E3: 45067 | G3: =E3+1 -> 45068 | I3: =G3+1 -> 45069 | K3: =I3+1 -> 45070 | M3: =K3+1 -> 45071 | O3: =M3+1 -> 45072 | Q3: =O3+1 -> 45073
B5: STAFF GROUPING
C6: #101 | D6: Cody Gibson | E6: Unavailable | G6: Nurse | H6: 0.33333333 | I6: Nurse | J6: 0.33333333 | K6: Nurse | L6: 0.33333333 | M6: Nurse | N6: 0.33333333 | O6: Nurse | P6: 0.33333333 | Q6: Unavailable
D7: =SUM(F7-F6,H7-H6,J7-J6,L7-L6,N7-N6,P7-P6,R7-R6) -> 1.875 | H7: 0.70833333 | J7: 0.70833333 | L7: 0.70833333 | N7: 0.70833333 | P7: 0.70833333
C8: #102 | D8: Celia Houston | E8: RN (Registered Nurse) | F8: 0.41666667 | G8: RN (Registered Nurse) | H8: 0.41666667 | I8: Unavailable | K8: RN (Registered Nurse) | L8: 0.41666667 | M8: Vacation | O8: RN (Registered Nurse) | P8: 0.41666667 | Q8: RN (Registered Nurse) | R8: 0.41666667
D9: =SUM(F9-F8,H9-H8,J9-J8,L9-L8,N9-N8,P9-P8,R9-R8) -> 0.625 | F9: 0.54166667 | H9: 0.54166667 | L9: 0.54166667 | P9: 0.54166667 | R9: 0.54166667
C10: #103 | D10: Francis Gilbert | E10: CNA (Certified Nursing Assistant) | F10: 0.41666667 | G10: Off | I10: CNA (Certified Nursing Assistant) | J10: 0.41666667 | K10: CNA (Certified Nursing Assistant) | L10: 0.41666667 | M10: CNA (Certified Nursing Assistant) | N10: 0.41666667 | O10: PTO | Q10: CNA (Certified Nursing Assistant) | R10: 0.41666667
D11: =SUM(F11-F10,H11-H10,J11-J10,L11-L10,N11-N10,P11-P10,R11-R10) -> 0.625 | F11: 0.54166667 | J11: 0.54166667 | L11: 0.54166667 | N11: 0.54166667 | R11: 0.54166667
C12: #104 | D12: Kirk Fox | E12: Unavailable | G12: LPN (Licensed Practical Nurse) | H12: 0.33333333 | I12: LPN (Licensed Practical Nurse) | J12: 0.33333333 | K12: Unavailable | M12: LPN (Licensed Practical Nurse) | N12: 0.33333333 | O12: LPN (Licensed Practical Nurse) | P12: 0.33333333 | Q12: Unavailable
D13: =SUM(F13-F12,H13-H12,J13-J12,L13-L12,N13-N12,P13-P12,R13-R12) -> 2.3333333 | H13: 0.91666667 | J13: 0.91666667 | N13: 0.91666667 | P13: 0.91666667

Sheet retail example
C1: RETAIL SCHEDULE TEMPLATE
C2: ="WEEK # "&(ISOWEEKNUM(E3)) -> #NAME? | E2: =TEXT(E3,"dddd") -> Sunday | G2: =TEXT(G3,"dddd") -> Monday | I2: =TEXT(I3,"dddd") -> Tuesday | K2: =TEXT(K3,"dddd") -> Wednesday | M2: =TEXT(M3,"dddd") -> Thursday | O2: =TEXT(O3,"dddd") -> Friday | Q2: =TEXT(Q3,"dddd") -> Saturday
E3: 45067 | G3: =E3+1 -> 45068 | I3: =G3+1 -> 45069 | K3: =I3+1 -> 45070 | M3: =K3+1 -> 45071 | O3: =M3+1 -> 45072 | Q3: =O3+1 -> 45073
B5: STAFF GROUPING
C6: #101 | D6: Cody Gibson | E6: Unavailable | G6: Sales Associate | H6: 0.33333333 | I6: Sales Associate | J6: 0.33333333 | K6: Sales Associate | L6: 0.33333333 | M6: Sales Associate | N6: 0.33333333 | O6: Sales Associate | P6: 0.33333333 | Q6: Unavailable
D7: =SUM(F7-F6,H7-H6,J7-J6,L7-L6,N7-N6,P7-P6,R7-R6) -> 1.875 | H7: 0.70833333 | J7: 0.70833333 | L7: 0.70833333 | N7: 0.70833333 | P7: 0.70833333
C8: #102 | D8: Celia Houston | E8: Cashier | F8: 0.41666667 | G8: Cashier | H8: 0.41666667 | I8: Unavailable | K8: Cashier | L8: 0.41666667 | M8: Vacation | O8: Cashier | P8: 0.41666667 | Q8: Cashier | R8: 0.41666667
D9: =SUM(F9-F8,H9-H8,J9-J8,L9-L8,N9-N8,P9-P8,R9-R8) -> 0.625 | F9: 0.54166667 | H9: 0.54166667 | L9: 0.54166667 | P9: 0.54166667 | R9: 0.54166667
C10: #103 | D10: Francis Gilbert | E10: Assistant Manager | F10: 0.41666667 | G10: Off | I10: Assistant Manager | J10: 0.41666667 | K10: Assistant Manager | L10: 0.41666667 | M10: Assistant Manager | N10: 0.41666667 | O10: PTO | Q10: Assistant Manager | R10: 0.41666667
D11: =SUM(F11-F10,H11-H10,J11-J10,L11-L10,N11-N10,P11-P10,R11-R10) -> 0.625 | F11: 0.54166667 | J11: 0.54166667 | L11: 0.54166667 | N11: 0.54166667 | R11: 0.54166667
C12: #104 | D12: Kirk Fox | E12: Unavailable | G12: Store Manager | H12: 0.33333333 | I12: Store Manager | J12: 0.33333333 | K12: Unavailable | M12: Store Manager | N12: 0.33333333 | O12: Store Manager | P12: 0.33333333 | Q12: Unavailable
D13: =SUM(F13-F12,H13-H12,J13-J12,L13-L12,N13-N12,P13-P12,R13-R12) -> 2.3333333 | H13: 0.91666667 | J13: 0.91666667 | N13: 0.91666667 | P13: 0.91666667

Sheet availability
B1: MONTHLY AVAILABILITY
B2: 45047 | F2: U | G2: =data!B2 -> Unavailable | J2: H | K2: =data!B3 -> Holiday | M2: P | N2: =data!B4 -> PTO | P2: S | Q2: =data!B5 -> Sick | S2: V | T2: =data!B6 -> Vacation | W2: O | X2: =data!B7 -> Off
B3: EMPLOYEE NAME | E3: 1 | F3: =E3+1 -> 2 | G3: =F3+1 -> 3 | H3: =G3+1 -> 4 | I3: =H3+1 -> 5 | J3: =I3+1 -> 6 | K3: =J3+1 -> 7 | L3: =K3+1 -> 8 | M3: =L3+1 -> 9 | ... AI3: =AH3+1 -> 31
B4: ='example 1'!D6 -> Cody Gibson | E4: w | F4: w | G4: w | H4: w | I4: v | J4: u | K4: u | L4: u | M4: w | N4: w | O4: w | P4: w | Q4: w | R4: o | S4: w | T4: w | U4: o | V4: u | W4: w | X4: w | Y4: o | Z4: w | AA4: o | AB4: o | AC4: w | AD4: w | AE4: w | AF4: w | AG4: o | AH4: u | AI4: -
B5: ='example 1'!D8 -> Celia Houston | E5: u | F5: w | G5: w | H5: w | I5: w | J5: w | K5: u | L5: w | M5: w | N5: u | O5: w | P5: w | Q5: w | R5: w | S5: w | T5: w | U5: w | V5: u | W5: w | X5: w | Y5: w | Z5: w | AA5: w | AB5: w | AC5: s | AD5: s | AE5: w | AF5: w | AG5: w | AH5: u | AI5: -
B6: ='example 1'!D10 -> Francis Gilbert | E6: w | F6: w | G6: w | H6: u | I6: w | J6: w | K6: w | L6: u | M6: w | N6: w | O6: w | P6: w | Q6: w | R6: u | S6: u | T6: u | U6: w | V6: w | W6: w | X6: w | Y6: w | Z6: u | AA6: w | AB6: w | AC6: w | AD6: w | AE6: w | AF6: u | AG6: w | AH6: w | AI6: -
B7: ='example 1'!D12 -> Kirk Fox | E7: u | F7: w | G7: w | H7: u | I7: s | J7: w | K7: w | L7: w | M7: w | N7: w | O7: u | P7: w | Q7: w | R7: w | S7: u | T7: w | U7: w | V7: w | W7: w | X7: w | Y7: u | Z7: w | AA7: w | AB7: w | AC7: u | AD7: w | AE7: w | AF7: w | AG7: w | AH7: w | AI7: -
B8: ='example 1'!D15 -> Alice Douglas | E8: w | F8: w | G8: w | H8: w | I8: w | J8: u | K8: u | L8: u | M8: u | N8: w | O8: w | P8: w | Q8: w | R8: w | S8: w | T8: w | U8: w | V8: w | W8: w | X8: w | Y8: u | Z8: u | AA8: w | AB8: w | AC8: u | AD8: s | AE8: w | AF8: w | AG8: w | AH8: w | AI8: -
B9: ='example 1'!D17 -> Russell Graves | E9: u | F9: u | G9: w | H9: w | I9: w | J9: w | K9: w | L9: u | M9: w | N9: w | O9: w | P9: w | Q9: w | R9: u | S9: u | T9: w | U9: w | V9: w | W9: w | X9: w | Y9: w | Z9: v | AA9: v | AB9: v | AC9: v | AD9: w | AE9: w | AF9: w | AG9: w | AH9: w | AI9: -
B10: ='example 1'!D19 -> Michelle Bates | E10: u | F10: w | G10: w | H10: w | I10: w | J10: w | K10: u | L10: w | M10: w | N10: w | O10: w | P10: w | Q10: w | R10: u | S10: w | T10: w | U10: u | V10: w | W10: u | X10: w | Y10: w | Z10: w | AA10: w | AB10: w | AC10: u | AD10: w | AE10: w | AF10: w | AG10: u | AH10: w | AI10: -
B11: ='example 1'!D21 -> Gregory Harvey | E11: w | F11: w | G11: w | H11: w | I11: w | J11: w | K11: u | L11: u | M11: w | N11: w | O11: w | P11: w | Q11: w | R11: w | S11: w | T11: w | U11: w | V11: w | W11: v | X11: u | Y11: u | Z11: u | AA11: u | AB11: w | AC11: w | AD11: w | AE11: w | AF11: w | AG11: w | AH11: w | AI11: -
B12: ='example 1'!D23 -> Denise Lawson | E12: u | F12: w | G12: w | H12: w | I12: w | J12: w | K12: w | L12: w | M12: w | N12: u | O12: w | P12: u | Q12: w | R12: w | S12: w | T12: w | U12: w | V12: u | W12: v | X12: v | Y12: v | Z12: u | AA12: w | AB12: w | AC12: w | AD12: w | AE12: w | AF12: u | AG12: w | AH12: u | AI12: -
B13: ='example 1'!D26 -> Connie Howard | E13: w | F13: w | G13: u | H13: w | I13: u | J13: w | K13: w | L13: w | M13: w | N13: w | O13: w | P13: v | Q13: u | R13: u | S13: w | T13: w | U13: u | V13: w | W13: u | X13: w | Y13: u | Z13: w | AA13: w | AB13: w | AC13: w | AD13: w | AE13: w | AF13: u | AG13: u | AH13: w | AI13: -
B14: ='example 1'!D28 -> Russell Campbell | E14: w | F14: w | G14: w | H14: u | I14: v | J14: v | K14: v | L14: u | M14: w | N14: w | O14: w | P14: w | Q14: w | R14: u | S14: w | T14: u | U14: w | V14: u | W14: w | X14: u | Y14: w | Z14: u | AA14: w | AB14: w | AC14: w | AD14: w | AE14: w | AF14: w | AG14: w | AH14: u | AI14: -
B15: ='example 1'!D30 -> Colleen Brewer | E15: w | F15: w | G15: u | H15: w | I15: u | J15: w | K15: u | L15: w | M15: w | N15: w | O15: u | P15: w | Q15: w | R15: w | S15: u | T15: w | U15: u | V15: w | W15: u | X15: w | Y15: u | Z15: w | AA15: w | AB15: u | AC15: w | AD15: u | AE15: w | AF15: w | AG15: u | AH15: w | AI15: -
B16: ='example 1'!D32 -> Nellie Douglas | E16: w | F16: u | G16: w | H16: u | I16: w | J16: u | K16: w | L16: u | M16: w | N16: w | O16: u | P16: s | Q16: w | R16: w | S16: w | T16: w | U16: w | V16: w | W16: w | X16: w | Y16: u | Z16: w | AA16: w | AB16: w | AC16: w | AD16: v | AE16: u | AF16: u | AG16: w | AH16: w | AI16: -
B17: ='example 1'!D34 -> Marcus Ross | E17: u | F17: w | G17: u | H17: w | I17: u | J17: w | K17: u | L17: w | M17: w | N17: w | O17: w | P17: v | Q17: u | R17: u | S17: u | T17: w | U17: w | V17: w | W17: w | X17: w | Y17: w | Z17: u | AA17: w | AB17: w | AC17: w | AD17: w | AE17: w | AF17: u | AG17: w | AH17: w | AI17: -

Sheet data
A1: Positions | B1: Availability types
A2: Accountant | B2: Unavailable
A3: Buyer | B3: Holiday
A4: Manager | B4: PTO
A5: Shift Manager | B5: Sick
A6: Chef | B6: Vacation
A7: Sous-chef | B7: Off
A8: Cook
A9: Assistant
A10: Cleaner
A11: Administrator
A12: Waiter
A13: Bar staff
A14: Baristo
A15: Hostess
A16: Manager
A17: Nurse
A18: RN (Registered Nurse)
A19: CNA (Certified Nursing Assistant)
... A24: Store Manager
